BEGIN:VCALENDAR
VERSION:2.0
PRODID:-//eventon.com NONSGML v1.0//EN
CALSCALE:GREGORIAN
METHOD:PUBLISH
BEGIN:VEVENT
UID:69e76f9bae5e4
DTSTAMP:20260421T123747Z
DTSTART:20260821T190000Z
DTEND:20260821T230000Z
LOCATION:O2 Forum\,  Kentish Town 9-17 Highgate Rd\,  Kentish Town\,  London NW5 1JY
SUMMARY:Ronnie Wood - London
DESCRIPTION:Ronnie Wood And His Band have announced additional European dat
 es following high demand\,  including a London show at O2 Forum Kentish Tow
 n and a Cologne performance at E Werk. These intimate shows are an opportun
 ity to see one of the world’s most iconic guitarists outside of his stadi
 um performances with[..]\nhttps://www.metaltalk.net/events/ronnie-wood-lond
 on
URL:https://www.metaltalk.net/events/ronnie-wood-london
END:VEVENT
END:VCALENDAR