BEGIN:VCALENDAR
VERSION:2.0
PRODID:-//eventon.com NONSGML v1.0//EN
CALSCALE:GREGORIAN
METHOD:PUBLISH
BEGIN:VEVENT
UID:69e621bf26901
DTSTAMP:20260420T125319Z
DTSTART:20260528T193000Z
DTEND:20260528T235900Z
LOCATION:The Jacaranda\,  Liverpool 21-23 Slater St.\,  Liverpool L1 4BW
SUMMARY:Dan Byrne\,  Liverpool
DESCRIPTION:Dan Byrne has unveiled his new single Home\,  taken from his fo
 rthcoming debut album This Is Where the Show Begins\,  due 22 May via Front
 iers. The track closes the album on an emotional high\,  combining cinemati
 c guitars and soaring vocals with deeply personal lyrics about connection a
 nd distance. Following a[..]\nhttps://www.metaltalk.net/events/dan-byrne-li
 verpool
URL:https://www.metaltalk.net/events/dan-byrne-liverpool
END:VEVENT
END:VCALENDAR