BEGIN:VCALENDAR
VERSION:2.0
PRODID:-//eventon.com NONSGML v1.0//EN
CALSCALE:GREGORIAN
METHOD:PUBLISH
BEGIN:VEVENT
UID:69e9eb23dc302
DTSTAMP:20260423T094923Z
DTSTART:20260921T190000Z
DTEND:20260921T230000Z
LOCATION:Eventim Apollo 45 Queen Caroline St\,  Hammersmith\,  London W6 9QH
SUMMARY:Judas Priest - London
DESCRIPTION:The landmark Judas Priest album Sad Wings Of Destiny is set to 
 celebrate its 50th anniversary with new definitive editions from Exciter Re
 cords. The band have also confirmed a London show for 21 September 2026.\nh
 ttps://www.metaltalk.net/events/judas-priest-london
URL:https://www.metaltalk.net/events/judas-priest-london
END:VEVENT
END:VCALENDAR