BEGIN:VCALENDAR
VERSION:2.0
PRODID:-//eventon.com NONSGML v1.0//EN
CALSCALE:GREGORIAN
METHOD:PUBLISH
BEGIN:VEVENT
UID:69e779d02bea6
DTSTAMP:20260421T132120Z
DTSTART:20261113T193000Z
DTEND:20261113T230000Z
LOCATION:Barrowlands\,  Glasgow 244 Gallowgate\,  Glasgow G4 0TT
SUMMARY:Skindred\,  Glasgow
DESCRIPTION:Welsh ragga Metal legends Skindred have announced a major UK an
 d Ireland headline tour in support of their new album You Got This. Widely 
 regarded as one of the best live bands on the planet\,  Skindred are set to
  bring their explosive energy to Nottingham\,  Birmingham\,  Dublin\,  Belf
 ast and Glasgow.[..]\nhttps://www.metaltalk.net/events/skindred-glasgow
URL:https://www.metaltalk.net/events/skindred-glasgow
END:VEVENT
END:VCALENDAR