BEGIN:VCALENDAR
VERSION:2.0
PRODID:-//eventon.com NONSGML v1.0//EN
CALSCALE:GREGORIAN
METHOD:PUBLISH
BEGIN:VEVENT
UID:69e778143ab9d
DTSTAMP:20260421T131356Z
DTSTART:20261107T193000Z
DTEND:20261107T230000Z
LOCATION:Telegraph Building\,  Belfast BT1\,  Library St\,  Belfast BT1 1FH
SUMMARY:Skindred\,  Belfast
DESCRIPTION:Welsh ragga Metal legends Skindred have announced a major UK an
 d Ireland headline tour in support of their new album You Got This. Widely 
 regarded as one of the best live bands on the planet\,  Skindred are set to
  bring their explosive energy to Nottingham\,  Birmingham\,  Dublin\,  Belf
 ast and Glasgow.[..]\nhttps://www.metaltalk.net/events/skindred-belfast
URL:https://www.metaltalk.net/events/skindred-belfast
END:VEVENT
END:VCALENDAR