BEGIN:VCALENDAR
VERSION:2.0
PRODID:-//eventon.com NONSGML v1.0//EN
CALSCALE:GREGORIAN
METHOD:PUBLISH
BEGIN:VEVENT
UID:69e779e557f15
DTSTAMP:20260421T132141Z
DTSTART:20261106T193000Z
DTEND:20261106T230000Z
LOCATION:3Olympia Theatre\,  Dublin 72 Dame St\,  Temple Bar\,  Dublin 2\,  D02 K135\,  Ireland
SUMMARY:Skindred\,  Dublin
DESCRIPTION:Welsh ragga Metal legends Skindred have announced a major UK an
 d Ireland headline tour in support of their new album You Got This. Widely 
 regarded as one of the best live bands on the planet\,  Skindred are set to
  bring their explosive energy to Nottingham\,  Birmingham\,  Dublin\,  Belf
 ast and Glasgow.[..]\nhttps://www.metaltalk.net/events/skindred-dublin
URL:https://www.metaltalk.net/events/skindred-dublin
END:VEVENT
END:VCALENDAR