BEGIN:VCALENDAR
VERSION:2.0
PRODID:-//eventon.com NONSGML v1.0//EN
CALSCALE:GREGORIAN
METHOD:PUBLISH
BEGIN:VEVENT
UID:69e7798020755
DTSTAMP:20260421T132000Z
DTSTART:20261031T193000Z
DTEND:20261031T230000Z
LOCATION:Alexandra Palace\,  London Alexandra Palace\,  Alexandra Palace Way\,  London N22 7AY
SUMMARY:Skindred\,  London
DESCRIPTION:Welsh ragga Metal legends Skindred have announced a major UK an
 d Ireland headline tour in support of their new album You Got This. Widely 
 regarded as one of the best live bands on the planet\,  Skindred are set to
  bring their explosive energy to Nottingham\,  Birmingham\,  Dublin\,  Belf
 ast and Glasgow.[..]\nhttps://www.metaltalk.net/events/skindred-london
URL:https://www.metaltalk.net/events/skindred-london
END:VEVENT
END:VCALENDAR