BEGIN:VCALENDAR
VERSION:2.0
PRODID:-//eventon.com NONSGML v1.0//EN
CALSCALE:GREGORIAN
METHOD:PUBLISH
BEGIN:VEVENT
UID:69e779e230752
DTSTAMP:20260421T132138Z
DTSTART:20261030T193000Z
DTEND:20261030T230000Z
LOCATION:O2 Academy\,  Birmingham 16-18 Horse Fair\,  Birmingham B1 1DB
SUMMARY:Skindred\,  Birmingham
DESCRIPTION:Welsh ragga Metal legends Skindred have announced a major UK an
 d Ireland headline tour in support of their new album You Got This. Widely 
 regarded as one of the best live bands on the planet\,  Skindred are set to
  bring their explosive energy to Nottingham\,  Birmingham\,  Dublin\,  Belf
 ast and Glasgow.[..]\nhttps://www.metaltalk.net/events/skindred-birmingham
URL:https://www.metaltalk.net/events/skindred-birmingham
END:VEVENT
END:VCALENDAR