BEGIN:VCALENDAR
VERSION:2.0
PRODID:-//eventon.com NONSGML v1.0//EN
CALSCALE:GREGORIAN
METHOD:PUBLISH
BEGIN:VEVENT
UID:69e779e31b016
DTSTAMP:20260421T132139Z
DTSTART:20261024T193000Z
DTEND:20261024T230000Z
LOCATION:Rock City\,  Nottingham 8 Talbot St\,  Nottingham\,  NG1 5GG
SUMMARY:Skindred\,  Nottingham
DESCRIPTION:Welsh ragga Metal legends Skindred have announced a major UK an
 d Ireland headline tour in support of their new album You Got This. Widely 
 regarded as one of the best live bands on the planet\,  Skindred are set to
  bring their explosive energy to Nottingham\,  Birmingham\,  Dublin\,  Belf
 ast and Glasgow.[..]\nhttps://www.metaltalk.net/events/skindred-nottingham
URL:https://www.metaltalk.net/events/skindred-nottingham
END:VEVENT
END:VCALENDAR