BEGIN:VCALENDAR
VERSION:2.0
PRODID:-//eventon.com NONSGML v1.0//EN
CALSCALE:GREGORIAN
METHOD:PUBLISH
BEGIN:VEVENT
UID:69e4d23e5a5ee
DTSTAMP:20260419T130150Z
DTSTART:20260425T193000Z
DTEND:20260425T230000Z
LOCATION:KK's Steel Mill Starworks Warehouse\,  Frederick St\,  Wolverhampton WV2 4DU
SUMMARY:Tyketto\,  Wolverhampton
DESCRIPTION:Tyketto release Closer To The Sun through Silver Lining Music 
 on 20 March 2026. In support of the album&#8217;s release\,  Tyketto have
  announced a string of dates for 2026\,  kicking off at Planet Rock&#8217;s
  Winter&#8217;s End festival in Porthcawl\,  Wales and with a full UK Tour 
 set for the spring and European shows[..]\nhttps://www.metaltalk.net/events
 /tyketto-wolverhampton
URL:https://www.metaltalk.net/events/tyketto-wolverhampton
END:VEVENT
END:VCALENDAR