BEGIN:VCALENDAR
VERSION:2.0
PRODID:-//eventon.com NONSGML v1.0//EN
CALSCALE:GREGORIAN
METHOD:PUBLISH
BEGIN:VEVENT
UID:69e4d235acb41
DTSTAMP:20260419T130141Z
DTSTART:20260418T193000Z
DTEND:20260418T230000Z
LOCATION:Academy\,  Manchester Manchester University Students Union\,  Oxford Rd\,  Manchester\,  M13 9PR.
SUMMARY:Tyketto\,  Manchester
DESCRIPTION:Tyketto release Closer To The Sun through Silver Lining Music 
 on 20 March 2026. In support of the album&#8217;s release\,  Tyketto have
  announced a string of dates for 2026\,  kicking off at Planet Rock&#8217;s
  Winter&#8217;s End festival in Porthcawl\,  Wales and with a full UK Tour 
 set for the spring and European shows[..]\nhttps://www.metaltalk.net/events
 /tyketto-manchester
URL:https://www.metaltalk.net/events/tyketto-manchester
END:VEVENT
END:VCALENDAR