BEGIN:VCALENDAR
VERSION:2.0
PRODID:-//eventon.com NONSGML v1.0//EN
CALSCALE:GREGORIAN
METHOD:PUBLISH
BEGIN:VEVENT
UID:69e655317bd35
DTSTAMP:20260420T163249Z
DTSTART:20260411T193000Z
DTEND:20260411T230000Z
LOCATION:The Patriot Main Street\,  Crumlin\,  Caerphilly\,  NP11 4PT
SUMMARY:Dan Byrne\,  Crumlin
DESCRIPTION:UK rocker Dan Byrne has signed with Frontiers Records and will 
 release his debut album This Is Where The Show Begins on 22 May 2026 via th
 e Italian label. The announcement lands alongside new single Saviour\,  a t
 owering slice of melodic Heavy Metal that is streaming now\,  complete with
  a[..]\nhttps://www.metaltalk.net/events/dan-byrne-crumlin
URL:https://www.metaltalk.net/events/dan-byrne-crumlin
END:VEVENT
END:VCALENDAR