BEGIN:VCALENDAR
VERSION:2.0
PRODID:-//eventon.com NONSGML v1.0//EN
CALSCALE:GREGORIAN
METHOD:PUBLISH
BEGIN:VEVENT
UID:69e6552d59184
DTSTAMP:20260420T163245Z
DTSTART:20260410T193000Z
DTEND:20260410T230000Z
LOCATION:The Lower Third\,  London 26 Denmark St\,  London WC2H 8NJ
SUMMARY:Dan Byrne\,  London
DESCRIPTION:UK rocker Dan Byrne has signed with Frontiers Records and will 
 release his debut album This Is Where The Show Begins on 22 May 2026 via th
 e Italian label. The announcement lands alongside new single Saviour\,  a t
 owering slice of melodic Heavy Metal that is streaming now\,  complete with
  a[..]\nhttps://www.metaltalk.net/events/dan-byrne-london
URL:https://www.metaltalk.net/events/dan-byrne-london
END:VEVENT
END:VCALENDAR