BEGIN:VCALENDAR
VERSION:2.0
PRODID:-//eventon.com NONSGML v1.0//EN
CALSCALE:GREGORIAN
METHOD:PUBLISH
BEGIN:VEVENT
UID:69e7575280d89
DTSTAMP:20260421T105410Z
DTSTART:20260706T190000Z
DTEND:20260706T235900Z
LOCATION:Wolverhampton Civic Hall North St\,  Wolverhampton WV1 1RD
SUMMARY:Sammy Hagar - Best Of All Worlds Tour 2026 - Wolverhampton
DESCRIPTION:Sammy Hagar will return to the UK for his first tour since 1996
  when he brings his star-laden Best Of All Worlds Band across the pond in J
 uly 2026. Hagar will be joined by guitarist&nbsp;Joe Satriani\,  fellow Roc
 k &amp; Roll Hall of Famer and longtime Van Halen bassist&nbsp;Michael Anth
 ony\,  and[..]\nhttps://www.metaltalk.net/events/sammy-hagar-best-of-all-wo
 rlds-tour-2026-manchester
URL:https://www.metaltalk.net/events/sammy-hagar-best-of-all-worlds-tour-2026-manchester
END:VEVENT
END:VCALENDAR