BEGIN:VCALENDAR
VERSION:2.0
PRODID:-//eventon.com NONSGML v1.0//EN
CALSCALE:GREGORIAN
METHOD:PUBLISH
BEGIN:VEVENT
UID:69ecb8b50bd93
DTSTAMP:20260425T125101Z
DTSTART:20251208T190000Z
DTEND:20251208T230000Z
LOCATION:Co-op Live\,  Manchester Etihad Campus\,  1 Sportcity Way\,  Manchester M11 3DL
SUMMARY:Ice Nine Kills - A Work Of Art Tour / Manchester
DESCRIPTION:Big news\,  horror fiends\,  Horrorcore favourites\,  Ice Nine 
 Kills have announced they are putting their horror convention on the road\,
   bringing it to the UK this December and for the very first time. This pro
 mises to be a weekend of the macabre! The convention follows their&nbsp;mon
 strous headline EU and UK[..]\nhttps://www.metaltalk.net/events/ice-nine-ki
 lls-a-work-of-art-tour-manchester
URL:https://www.metaltalk.net/events/ice-nine-kills-a-work-of-art-tour-manchester
END:VEVENT
END:VCALENDAR